BEGIN:VCALENDAR
VERSION:2.0
PRODID:-//wp-events-plugin.com//7.0.3//EN
TZID:Asia/Tokyo
X-WR-TIMEZONE:Asia/Tokyo
BEGIN:VEVENT
UID:27@matsudaira-sc.jp
DTSTART;TZID=Asia/Tokyo:20251122T000000
DTEND;TZID=Asia/Tokyo:20251130T000000
DTSTAMP:20251202T092300Z
URL:https://matsudaira-sc.jp/events/mwhcup202511/
SUMMARY:松平ホワイトヒルズカップテニス大会
DESCRIPTION:第５回松平ホワイトヒルズカップテニス大会\n
 屋根付きのオムニコートで小規模大会！\nはじめての試
 合&#x1f646\;はじめて組むペアと&#x1f646\;試合前の調整&#x1f6
 46\;etc・・・\n２０２５年１１月２３日（日）男子ダブ
 ルス\n２０２５年１１月３０日（日）女子ダブルス\n満
 員御礼ありがとうございました！！\n次回は２０２６年
 ６月・１１月を予定しています。\nまた男子ダブルス、
 女子ダブルスに加え、初のミックスダブルスも開催予
 定！！\nご参加お待ちしております&#x1f60a\;\n大会結果と
 様子です&#x1f447\;\n\n\n\n\n\n\n\n\n\n\n\n\n\n\n\n\n\n\n\n\n\n\n\n\n\n
 \n\n\n\n\n\n\n\n\n\n\nコカ・コーラボトラーズジャパン様、
 株式会社テニスジャパン様、ご協賛ありがとうござい
 ました。\n
CATEGORIES:ホワイトヒルズカップ
END:VEVENT
BEGIN:VTIMEZONE
TZID:Asia/Tokyo
X-LIC-LOCATION:Asia/Tokyo
BEGIN:STANDARD
DTSTART:20241122T000000
TZOFFSETFROM:+0900
TZOFFSETTO:+0900
TZNAME:JST
END:STANDARD
END:VTIMEZONE
END:VCALENDAR