BEGIN:VCALENDAR
VERSION:2.0
PRODID:-//wp-events-plugin.com//7.0.3//EN
TZID:Asia/Tokyo
X-WR-TIMEZONE:Asia/Tokyo
BEGIN:VEVENT
UID:25@matsudaira-sc.jp
DTSTART;TZID=Asia/Tokyo:20250719T000000
DTEND;TZID=Asia/Tokyo:20250720T000000
DTSTAMP:20250717T175018Z
URL:https://matsudaira-sc.jp/events/%e3%83%86%e3%82%b9%e3%83%88/
SUMMARY:テスト
DESCRIPTION:申し込みテスト画面
END:VEVENT
BEGIN:VTIMEZONE
TZID:Asia/Tokyo
X-LIC-LOCATION:Asia/Tokyo
BEGIN:STANDARD
DTSTART:20240719T000000
TZOFFSETFROM:+0900
TZOFFSETTO:+0900
TZNAME:JST
END:STANDARD
END:VTIMEZONE
END:VCALENDAR